BEGIN:VCALENDAR
VERSION:2.0
PRODID:-//familienhilfeleiningerland.de - ECPv6.15.16//NONSGML v1.0//EN
CALSCALE:GREGORIAN
METHOD:PUBLISH
X-ORIGINAL-URL:https://familienhilfeleiningerland.de
X-WR-CALDESC:Veranstaltungen für familienhilfeleiningerland.de
REFRESH-INTERVAL;VALUE=DURATION:PT1H
X-Robots-Tag:noindex
X-PUBLISHED-TTL:PT1H
BEGIN:VTIMEZONE
TZID:Europe/Berlin
BEGIN:DAYLIGHT
TZOFFSETFROM:+0100
TZOFFSETTO:+0200
TZNAME:CEST
DTSTART:20250330T010000
END:DAYLIGHT
BEGIN:STANDARD
TZOFFSETFROM:+0200
TZOFFSETTO:+0100
TZNAME:CET
DTSTART:20251026T010000
END:STANDARD
BEGIN:DAYLIGHT
TZOFFSETFROM:+0100
TZOFFSETTO:+0200
TZNAME:CEST
DTSTART:20260329T010000
END:DAYLIGHT
BEGIN:STANDARD
TZOFFSETFROM:+0200
TZOFFSETTO:+0100
TZNAME:CET
DTSTART:20261025T010000
END:STANDARD
BEGIN:DAYLIGHT
TZOFFSETFROM:+0100
TZOFFSETTO:+0200
TZNAME:CEST
DTSTART:20270328T010000
END:DAYLIGHT
BEGIN:STANDARD
TZOFFSETFROM:+0200
TZOFFSETTO:+0100
TZNAME:CET
DTSTART:20271031T010000
END:STANDARD
END:VTIMEZONE
BEGIN:VEVENT
DTSTART;TZID=Europe/Berlin:20261105T090000
DTEND;TZID=Europe/Berlin:20261105T160000
DTSTAMP:20260420T042551
CREATED:20260227T190330Z
LAST-MODIFIED:20260301T113932Z
UID:1700-1793869200-1793894400@familienhilfeleiningerland.de
SUMMARY:Autismus Basis-Schulung mit Sarah Weber von Autisplus
DESCRIPTION:Sarah Weber von Autisplus führt dich fachlich fundiert und praxisnah durch die Autismus Basis-Schulung – mit Blick auf alltagstaugliche Strategien und die Perspektiven autistischer Personen. \nDiese Basis-Schulung ist dein „Rundumschlag“ für alle wichtigen Grundlagen rund um das Autismus-Spektrum. An einem Tag bekommst du kompaktes\, praxisnahes Wissen – als verständliche Einführung und zugleich differenzierter Überblick über alles\, was im Kontext Autismus wirklich relevant ist.\nDas vermittelte Wissen ist außerdem eine sinnvolle Voraussetzung\, um aus weiteren Live-Workshops maximal viel mitnehmen zu können. \nWenn du hier richtig bist \n\nDu bist neu im Thema Autismus oder möchtest wichtige Grundlagen sicher aufbauen/vertiefen.\nDie Diagnose ist frisch und du willst verstehen\, wie es jetzt weitergehen kann.\nDu willst Autismus besser nachvollziehen: Hintergründe und konkrete Alltagstipps.\nDu wünschst dir eine kurzweilige\, barrierearme und inklusive Schulung\, die informativ ist\, ohne dich komplett zu erschöpfen.\nDu schätzt fachlichen Input in Kombination mit Perspektiven autistischer Personen.\n\nInhalte (übersichtlich & alltagstauglich) \n\nEinführung: Was ist Autismus?\nNeurobiologie & Hintergründe verständlich erklärt\nSoziale Interaktion & Kommunikation\nWahrnehmungsbesonderheiten & sensorische Auffälligkeiten\nDiagnostik & Diagnoseprozess\nAutismus in Kindheit\, Jugend & Erwachsenenalter\nUmgang mit herausfordernden Situationen/Verhalten: Overload\, Meltdowns\, Shutdowns\, Masking\nPraktische Alltagstipps & Fördermöglichkeiten\n\n👉 Ergebnis: Du gehst mit einem klaren Grundverständnis\, mehr Sicherheit im Alltag und vielen konkreten Ansatzpunkten nach Hause. \nIn den Pausen stehen Snacks\, Kaffeespezialitäten und verschiedene Getränke für dich bereit. In der Mittagspause erwartet dich zusätzlich ein Mittagsbuffet\, damit Körper und Geist gut versorgt sind und du gestärkt in den weiteren Seminartag gehen kannst. \nAußerdem findest du vor Ort ausgewähltes Informationsmaterial mit weiterführenden Impulsen und ergänzenden Inhalten. \nDozentin: Sarah WeberDatum: 05.11.2026Zeit: 09:00–16:00 UhrPreis: 249 €Anmeldung: HIER KLICKEN
URL:https://familienhilfeleiningerland.de/event/autismus-basis-schulung-mit-sarah-weber-von-autisplus-2/
LOCATION:Leuchtturm Familienhilfe Leiningerland\, Dieselstr. 8\, Grünstadt\, 67269\, Germany
CATEGORIES:Autismus Spektrum Fortbildungen
ATTACH;FMTTYPE=image/png:https://familienhilfeleiningerland.de/wp-content/uploads/2026/02/9.png
ORGANIZER;CN="Institut f%C3%BCr p%C3%A4dagogische Familienhilfe Leiningerland GbR":MAILTO:06359 8725975
END:VEVENT
END:VCALENDAR