BEGIN:VCALENDAR
VERSION:2.0
PRODID:-//familienhilfeleiningerland.de - ECPv6.15.16//NONSGML v1.0//EN
CALSCALE:GREGORIAN
METHOD:PUBLISH
X-ORIGINAL-URL:https://familienhilfeleiningerland.de
X-WR-CALDESC:Veranstaltungen für familienhilfeleiningerland.de
REFRESH-INTERVAL;VALUE=DURATION:PT1H
X-Robots-Tag:noindex
X-PUBLISHED-TTL:PT1H
BEGIN:VTIMEZONE
TZID:Europe/Berlin
BEGIN:DAYLIGHT
TZOFFSETFROM:+0100
TZOFFSETTO:+0200
TZNAME:CEST
DTSTART:20250330T010000
END:DAYLIGHT
BEGIN:STANDARD
TZOFFSETFROM:+0200
TZOFFSETTO:+0100
TZNAME:CET
DTSTART:20251026T010000
END:STANDARD
BEGIN:DAYLIGHT
TZOFFSETFROM:+0100
TZOFFSETTO:+0200
TZNAME:CEST
DTSTART:20260329T010000
END:DAYLIGHT
BEGIN:STANDARD
TZOFFSETFROM:+0200
TZOFFSETTO:+0100
TZNAME:CET
DTSTART:20261025T010000
END:STANDARD
BEGIN:DAYLIGHT
TZOFFSETFROM:+0100
TZOFFSETTO:+0200
TZNAME:CEST
DTSTART:20270328T010000
END:DAYLIGHT
BEGIN:STANDARD
TZOFFSETFROM:+0200
TZOFFSETTO:+0100
TZNAME:CET
DTSTART:20271031T010000
END:STANDARD
END:VTIMEZONE
BEGIN:VEVENT
DTSTART;TZID=Europe/Berlin:20261022T130000
DTEND;TZID=Europe/Berlin:20261022T160000
DTSTAMP:20260420T025132
CREATED:20260227T181841Z
LAST-MODIFIED:20260301T114444Z
UID:1673-1792674000-1792684800@familienhilfeleiningerland.de
SUMMARY:Lese-Rechtschreib-Schwäche (LRS) verstehen und begleiten 
DESCRIPTION:In diesem Fachvortrag vermittelt der Lerntherapeut Stephan Kolbe fundiertes Wissen rund um das Thema Lese-Rechtschreib-Schwäche (LRS). \nIm Mittelpunkt stehen die Ursachen und Auswirkungen von LRS\, die unterschiedlichen Ausprägungsformen sowie grundlegende Aspekte der Diagnostik. Ziel der Fortbildung ist es\, ein vertieftes Verständnis für LRS zu entwickeln und die Perspektive betroffener Kinder und Jugendlicher besser nachvollziehen zu können. \nDie Teilnehmer:innen lernen\, wie sich LRS im schulischen und alltäglichen Kontext äußern kann und welche Herausforderungen damit verbunden sind. Ein weiterer Schwerpunkt liegt auf der praxisnahen Unterstützung von Kindern und Jugendlichen mit LRS. Dabei wird deutlich\, dass eine wirksame Förderung stets individuell gestaltet werden muss. \nTrainings- und Fördermaßnahmen sollten sich an den jeweiligen Fähigkeiten\, Ressourcen und der persönlichen Ausprägung der Lese-Rechtschreib-Schwäche orientieren. \nDie Fortbildung richtet sich an pädagogische Fachkräfte\, Lehrkräfte sowie alle Interessierten\, die Kinder und Jugendliche mit LRS kompetent\, wertschätzend und unterstützend begleiten möchten. \nIn der Pause stehen Snacks\, Kaffeespezialitäten und verschiedene Getränke für dich bereit. Außerdem findest du vor Ort ausgewähltes Informationsmaterial\, das dir zusätzliche Impulse und vertiefende Einblicke bietet. \nDozent: Stephan Kolbe\, Dipl. PsychologeDatum: 22.10.2026Zeit: 13:00–16:00 UhrPreis: 39 €Anmeldung: HIER KLICKEN
URL:https://familienhilfeleiningerland.de/event/lese-rechtschreib-schwaeche-lrs-verstehen-und-begleiten/
LOCATION:Leuchtturm Familienhilfe Leiningerland\, Dieselstr. 8\, Grünstadt\, 67269\, Germany
CATEGORIES:LRS & Dyskalkulie Fortbildungen
ATTACH;FMTTYPE=image/png:https://familienhilfeleiningerland.de/wp-content/uploads/2026/02/51.png
END:VEVENT
END:VCALENDAR