BEGIN:VCALENDAR
VERSION:2.0
PRODID:-//familienhilfeleiningerland.de - ECPv6.15.16//NONSGML v1.0//EN
CALSCALE:GREGORIAN
METHOD:PUBLISH
X-WR-CALNAME:familienhilfeleiningerland.de
X-ORIGINAL-URL:https://familienhilfeleiningerland.de
X-WR-CALDESC:Veranstaltungen für familienhilfeleiningerland.de
REFRESH-INTERVAL;VALUE=DURATION:PT1H
X-Robots-Tag:noindex
X-PUBLISHED-TTL:PT1H
BEGIN:VTIMEZONE
TZID:Europe/Berlin
BEGIN:DAYLIGHT
TZOFFSETFROM:+0100
TZOFFSETTO:+0200
TZNAME:CEST
DTSTART:20250330T010000
END:DAYLIGHT
BEGIN:STANDARD
TZOFFSETFROM:+0200
TZOFFSETTO:+0100
TZNAME:CET
DTSTART:20251026T010000
END:STANDARD
BEGIN:DAYLIGHT
TZOFFSETFROM:+0100
TZOFFSETTO:+0200
TZNAME:CEST
DTSTART:20260329T010000
END:DAYLIGHT
BEGIN:STANDARD
TZOFFSETFROM:+0200
TZOFFSETTO:+0100
TZNAME:CET
DTSTART:20261025T010000
END:STANDARD
BEGIN:DAYLIGHT
TZOFFSETFROM:+0100
TZOFFSETTO:+0200
TZNAME:CEST
DTSTART:20270328T010000
END:DAYLIGHT
BEGIN:STANDARD
TZOFFSETFROM:+0200
TZOFFSETTO:+0100
TZNAME:CET
DTSTART:20271031T010000
END:STANDARD
END:VTIMEZONE
BEGIN:VEVENT
DTSTART;TZID=Europe/Berlin:20261014T090000
DTEND;TZID=Europe/Berlin:20261014T130000
DTSTAMP:20260420T024802
CREATED:20260227T175542Z
LAST-MODIFIED:20260301T113746Z
UID:1665-1791968400-1791982800@familienhilfeleiningerland.de
SUMMARY:FASD Basis – Verstehen\, Handeln\, Unterstützen
DESCRIPTION:Unsere Dozenten der Familienhilfe Leiningerland führen dich fachlich fundiert und praxisnah durch FASD Basis – Verstehen\, Handeln\, Unterstützen – mit dem Ziel\, Sicherheit im Umgang mit Fetaler Alkoholspektrumstörung zu gewinnen und konkrete Handlungsstrategien zu entwickeln. \nDiese Fortbildung bietet eine fundierte theoretische Einführung in das Störungsbild FASD (Fetale Alkoholspektrumstörung) und verbindet Wissen direkt mit der Praxis.An einem Vormittag bekommst du strukturiertes Grundlagenwissen\, das durch zahlreiche Fallbeispiele\, Übungen und alltagsnahe Situationen greifbar und anwendbar wird. \nWann du hier richtig bist\n\n\nDu arbeitest im Bereich Pädagogik\, Soziale Arbeit oder Gesundheitswesen. \n\n\nDu bist Angehörige:r oder interessierte Person und möchtest FASD besser verstehen. \n\n\nDu wünschst dir eine fundierte Einführung in das Störungsbild. \n\n\nDu möchtest Sicherheit im Umgang mit FASD gewinnen. \n\n\nDu suchst konkrete und praxisnahe Handlungsstrategien. \n\n\nInhalte\n\n\nTheoretische Grundlagen zum Störungsbild FASD \n\n\nVerständnis für typische Herausforderungen \n\n\nFallbeispiele aus dem Alltag \n\n\nPraxisnahe Übungen \n\n\nEntwicklung konkreter Unterstützungs- und Handlungsstrategien \n\n\n👉 Ergebnis: Du gehst mit einem klaren Grundverständnis für FASD\, mehr Sicherheit im Umgang mit Betroffenen und konkreten Ansätzen für deinen beruflichen oder familiären Alltag nach Hause. \nIn der Pause stehen Snacks\, Kaffeespezialitäten und verschiedene Getränke für dich bereit. Außerdem findest du vor Ort ausgewähltes Informationsmaterial\, das dir zusätzliche Impulse und vertiefende Einblicke bietet. \nDozenten: Familienhilfe Leiningerland \nDatum: 14.10.2026Zeit: 09:00–13:00 UhrPreis: 59 €Anmeldung: HIER KLICKEN \n 
URL:https://familienhilfeleiningerland.de/event/fasd-basis-verstehen-handeln-unterstuetzen-2/
LOCATION:Leuchtturm Familienhilfe Leiningerland\, Dieselstr. 8\, Grünstadt\, 67269\, Germany
CATEGORIES:FASD Fortbildungen
ATTACH;FMTTYPE=image/png:https://familienhilfeleiningerland.de/wp-content/uploads/2026/02/47.png
ORGANIZER;CN="Institut f%C3%BCr p%C3%A4dagogische Familienhilfe Leiningerland GbR":MAILTO:06359 8725975
END:VEVENT
END:VCALENDAR